BEGIN:VCALENDAR
VERSION:2.0
PRODID:-//Gasthof zur Scheune - ECPv6.14.2//NONSGML v1.0//EN
CALSCALE:GREGORIAN
METHOD:PUBLISH
X-ORIGINAL-URL:https://www.zur-scheune.de
X-WR-CALDESC:Veranstaltungen für Gasthof zur Scheune
REFRESH-INTERVAL;VALUE=DURATION:PT1H
X-Robots-Tag:noindex
X-PUBLISHED-TTL:PT1H
BEGIN:VTIMEZONE
TZID:Europe/Berlin
BEGIN:DAYLIGHT
TZOFFSETFROM:+0100
TZOFFSETTO:+0200
TZNAME:CEST
DTSTART:20260329T010000
END:DAYLIGHT
BEGIN:STANDARD
TZOFFSETFROM:+0200
TZOFFSETTO:+0100
TZNAME:CET
DTSTART:20261025T010000
END:STANDARD
END:VTIMEZONE
BEGIN:VEVENT
DTSTART;TZID=Europe/Berlin:20260218T180000
DTEND;TZID=Europe/Berlin:20260218T233000
DTSTAMP:20260421T174641
CREATED:20260208T190517Z
LAST-MODIFIED:20260208T190517Z
UID:10001438-1771437600-1771457400@www.zur-scheune.de
SUMMARY:Aschermittwoch – traditionelles Fischessen
DESCRIPTION:Auch in diesem Jahr möchten wir Euch zum traditionellen Fischessen in die Scheune einladen. Aschermittwoch und Karfreitag\, jeweils um 18.00 Uhr. Wir bitte um rechtzeitige Anmeldung\, da wir nur eine begrenzte Platzzahl haben.
URL:https://www.zur-scheune.de/event/aschermittwoch-traditionelles-fischessen/
CATEGORIES:Aktionsmenü
ATTACH;FMTTYPE=image/jpeg:https://www.zur-scheune.de/wp-content/uploads/2026/02/fischessen-2026-1.jpg
END:VEVENT
BEGIN:VEVENT
DTSTART;TZID=Europe/Berlin:20260220T180000
DTEND;TZID=Europe/Berlin:20260220T233000
DTSTAMP:20260421T174641
CREATED:20260208T192204Z
LAST-MODIFIED:20260208T192204Z
UID:10001440-1771610400-1771630200@www.zur-scheune.de
SUMMARY:Der ausgefallene Valentinstag – Freitag 20. Februar!
DESCRIPTION:Nachdem laut Kalender der Valentinstag dieses Jahr auf Karnevalssamstag fällt\, möchten wir Euch eine kleine Alternative am Freitag den 20.2. anbieten. Wir holen quasi den Valentinstag nach\, oder verschieben ihn einfach! Vielleicht ist das für den Ein oder Anderen von Euch eine Alternative. \nSowohl unser Fleisch/Fisch-Menü als auch das vegetarisches Menü bieten Euch einen kulinarischen Hochgenuß am Tag der Verliebten. \n18.00 Uhr geht’s los. Reserviert bitte rechtzeitig Eure Plätze. Egal ob mit oder ohne Weinbegleitung wir freuen uns auf Euch! Auch „Nichtverliebte“ sind natürlich erwünscht. \nMenü Cuisine d’Amour 
URL:https://www.zur-scheune.de/event/der-ausgefallene-valentinstag-freitag-20-februar/
CATEGORIES:Aktionsmenü
ATTACH;FMTTYPE=image/jpeg:https://www.zur-scheune.de/wp-content/uploads/2026/02/Valentinstag-2026-FB.jpg
END:VEVENT
END:VCALENDAR