BEGIN:VCALENDAR
VERSION:2.0
PRODID:-//Gasthof zur Scheune - ECPv6.14.2//NONSGML v1.0//EN
CALSCALE:GREGORIAN
METHOD:PUBLISH
X-WR-CALNAME:Gasthof zur Scheune
X-ORIGINAL-URL:https://www.zur-scheune.de
X-WR-CALDESC:Veranstaltungen für Gasthof zur Scheune
REFRESH-INTERVAL;VALUE=DURATION:PT1H
X-Robots-Tag:noindex
X-PUBLISHED-TTL:PT1H
BEGIN:VTIMEZONE
TZID:Europe/Berlin
BEGIN:DAYLIGHT
TZOFFSETFROM:+0100
TZOFFSETTO:+0200
TZNAME:CEST
DTSTART:20250330T010000
END:DAYLIGHT
BEGIN:STANDARD
TZOFFSETFROM:+0200
TZOFFSETTO:+0100
TZNAME:CET
DTSTART:20251026T010000
END:STANDARD
END:VTIMEZONE
BEGIN:VEVENT
DTSTART;TZID=Europe/Berlin:20251113T173000
DTEND;TZID=Europe/Berlin:20251113T230000
DTSTAMP:20260421T230411
CREATED:20251008T100438Z
LAST-MODIFIED:20251008T105241Z
UID:10001295-1763055000-1763074800@www.zur-scheune.de
SUMMARY:Quer über’n Tisch – VERLÄNGERUNG!
DESCRIPTION:Auch als Weihnachtsfeier eine tolle Idee! \nTeilen macht glücklich! \nNur für Euch! Lust auf ein paar „Kleinigkeiten“ und ein Gläschen Wein dazu? Bestellt und teilt wie’s Euch gefällt – halt \nQuer über’n Tisch! \nNach dem tollen Erfolg im Sommer haben wir uns entschlossen „Quer über’n Tisch“ mindestens bis zum Jahreswechsel zu verlängern! Immer donnerstags ab 18.00 Uhr bei uns in der Scheune. Ein kleines ABER haben wir noch. An diesen Tagen gibt es KEIN a la carte! Wenn Ihr allerdings eine Feier oder Veranstaltung machen möchtet geht natürlich auch Menü. In der Gänsezeit gibt es donnerstags auch unsere „Gans ganz anders“. Bei Fragen einfach melden\, danke!
URL:https://www.zur-scheune.de/event/quer-uebern-tisch-verlaengerung/2025-11-13/
CATEGORIES:Aktionsmenü
ATTACH;FMTTYPE=image/jpeg:https://www.zur-scheune.de/wp-content/uploads/2025/10/Quer-ueber-den-Tisch-neu.jpg
END:VEVENT
BEGIN:VEVENT
DTSTART;TZID=Europe/Berlin:20251114T180000
DTEND;TZID=Europe/Berlin:20251114T230000
DTSTAMP:20260421T230411
CREATED:20250609T213719Z
LAST-MODIFIED:20251008T101724Z
UID:10001271-1763143200-1763161200@www.zur-scheune.de
SUMMARY:Gänseessen 2025
DESCRIPTION:Traditionell ist im Rheinland ab St.Martin Gänsezeit! Und natürlich kommen wir auch dieses Jahr wieder gerne auf unser Angebot „Gans ganz anders“ zurück. Save the date!\nIm Vorfeld bitte unbedingt reservieren! Änderungen bleiben uns jederzeit vorbehalten und das Angebot gilt solange der Vorrat reicht!\nParalell dazu könnt Ihr natürlich auch a la carte speisen!
URL:https://www.zur-scheune.de/event/gaenseessen-2025/2025-11-14/
CATEGORIES:Aktionsmenü
ATTACH;FMTTYPE=image/jpeg:https://www.zur-scheune.de/wp-content/uploads/2025/07/Gans-ganz-anders-2025.jpg
END:VEVENT
BEGIN:VEVENT
DTSTART;TZID=Europe/Berlin:20251115T180000
DTEND;TZID=Europe/Berlin:20251115T230000
DTSTAMP:20260421T230411
CREATED:20250609T213719Z
LAST-MODIFIED:20251008T101724Z
UID:10001272-1763229600-1763247600@www.zur-scheune.de
SUMMARY:Gänseessen 2025
DESCRIPTION:Traditionell ist im Rheinland ab St.Martin Gänsezeit! Und natürlich kommen wir auch dieses Jahr wieder gerne auf unser Angebot „Gans ganz anders“ zurück. Save the date!\nIm Vorfeld bitte unbedingt reservieren! Änderungen bleiben uns jederzeit vorbehalten und das Angebot gilt solange der Vorrat reicht!\nParalell dazu könnt Ihr natürlich auch a la carte speisen!
URL:https://www.zur-scheune.de/event/gaenseessen-2025/2025-11-15/
CATEGORIES:Aktionsmenü
ATTACH;FMTTYPE=image/jpeg:https://www.zur-scheune.de/wp-content/uploads/2025/07/Gans-ganz-anders-2025.jpg
END:VEVENT
BEGIN:VEVENT
DTSTART;TZID=Europe/Berlin:20251116T180000
DTEND;TZID=Europe/Berlin:20251116T230000
DTSTAMP:20260421T230411
CREATED:20250609T213719Z
LAST-MODIFIED:20251008T101724Z
UID:10001273-1763316000-1763334000@www.zur-scheune.de
SUMMARY:Gänseessen 2025
DESCRIPTION:Traditionell ist im Rheinland ab St.Martin Gänsezeit! Und natürlich kommen wir auch dieses Jahr wieder gerne auf unser Angebot „Gans ganz anders“ zurück. Save the date!\nIm Vorfeld bitte unbedingt reservieren! Änderungen bleiben uns jederzeit vorbehalten und das Angebot gilt solange der Vorrat reicht!\nParalell dazu könnt Ihr natürlich auch a la carte speisen!
URL:https://www.zur-scheune.de/event/gaenseessen-2025/2025-11-16/
CATEGORIES:Aktionsmenü
ATTACH;FMTTYPE=image/jpeg:https://www.zur-scheune.de/wp-content/uploads/2025/07/Gans-ganz-anders-2025.jpg
END:VEVENT
BEGIN:VEVENT
DTSTART;TZID=Europe/Berlin:20251120T173000
DTEND;TZID=Europe/Berlin:20251120T230000
DTSTAMP:20260421T230411
CREATED:20251008T100438Z
LAST-MODIFIED:20251008T105241Z
UID:10001296-1763659800-1763679600@www.zur-scheune.de
SUMMARY:Quer über’n Tisch – VERLÄNGERUNG!
DESCRIPTION:Auch als Weihnachtsfeier eine tolle Idee! \nTeilen macht glücklich! \nNur für Euch! Lust auf ein paar „Kleinigkeiten“ und ein Gläschen Wein dazu? Bestellt und teilt wie’s Euch gefällt – halt \nQuer über’n Tisch! \nNach dem tollen Erfolg im Sommer haben wir uns entschlossen „Quer über’n Tisch“ mindestens bis zum Jahreswechsel zu verlängern! Immer donnerstags ab 18.00 Uhr bei uns in der Scheune. Ein kleines ABER haben wir noch. An diesen Tagen gibt es KEIN a la carte! Wenn Ihr allerdings eine Feier oder Veranstaltung machen möchtet geht natürlich auch Menü. In der Gänsezeit gibt es donnerstags auch unsere „Gans ganz anders“. Bei Fragen einfach melden\, danke!
URL:https://www.zur-scheune.de/event/quer-uebern-tisch-verlaengerung/2025-11-20/
CATEGORIES:Aktionsmenü
ATTACH;FMTTYPE=image/jpeg:https://www.zur-scheune.de/wp-content/uploads/2025/10/Quer-ueber-den-Tisch-neu.jpg
END:VEVENT
BEGIN:VEVENT
DTSTART;TZID=Europe/Berlin:20251121T180000
DTEND;TZID=Europe/Berlin:20251121T230000
DTSTAMP:20260421T230411
CREATED:20250609T213719Z
LAST-MODIFIED:20251008T101724Z
UID:10001274-1763748000-1763766000@www.zur-scheune.de
SUMMARY:Gänseessen 2025
DESCRIPTION:Traditionell ist im Rheinland ab St.Martin Gänsezeit! Und natürlich kommen wir auch dieses Jahr wieder gerne auf unser Angebot „Gans ganz anders“ zurück. Save the date!\nIm Vorfeld bitte unbedingt reservieren! Änderungen bleiben uns jederzeit vorbehalten und das Angebot gilt solange der Vorrat reicht!\nParalell dazu könnt Ihr natürlich auch a la carte speisen!
URL:https://www.zur-scheune.de/event/gaenseessen-2025/2025-11-21/
CATEGORIES:Aktionsmenü
ATTACH;FMTTYPE=image/jpeg:https://www.zur-scheune.de/wp-content/uploads/2025/07/Gans-ganz-anders-2025.jpg
END:VEVENT
BEGIN:VEVENT
DTSTART;TZID=Europe/Berlin:20251122T180000
DTEND;TZID=Europe/Berlin:20251122T230000
DTSTAMP:20260421T230411
CREATED:20250609T213719Z
LAST-MODIFIED:20251008T101724Z
UID:10001275-1763834400-1763852400@www.zur-scheune.de
SUMMARY:Gänseessen 2025
DESCRIPTION:Traditionell ist im Rheinland ab St.Martin Gänsezeit! Und natürlich kommen wir auch dieses Jahr wieder gerne auf unser Angebot „Gans ganz anders“ zurück. Save the date!\nIm Vorfeld bitte unbedingt reservieren! Änderungen bleiben uns jederzeit vorbehalten und das Angebot gilt solange der Vorrat reicht!\nParalell dazu könnt Ihr natürlich auch a la carte speisen!
URL:https://www.zur-scheune.de/event/gaenseessen-2025/2025-11-22/
CATEGORIES:Aktionsmenü
ATTACH;FMTTYPE=image/jpeg:https://www.zur-scheune.de/wp-content/uploads/2025/07/Gans-ganz-anders-2025.jpg
END:VEVENT
BEGIN:VEVENT
DTSTART;TZID=Europe/Berlin:20251123T180000
DTEND;TZID=Europe/Berlin:20251123T230000
DTSTAMP:20260421T230411
CREATED:20250609T213719Z
LAST-MODIFIED:20251008T101724Z
UID:10001276-1763920800-1763938800@www.zur-scheune.de
SUMMARY:Gänseessen 2025
DESCRIPTION:Traditionell ist im Rheinland ab St.Martin Gänsezeit! Und natürlich kommen wir auch dieses Jahr wieder gerne auf unser Angebot „Gans ganz anders“ zurück. Save the date!\nIm Vorfeld bitte unbedingt reservieren! Änderungen bleiben uns jederzeit vorbehalten und das Angebot gilt solange der Vorrat reicht!\nParalell dazu könnt Ihr natürlich auch a la carte speisen!
URL:https://www.zur-scheune.de/event/gaenseessen-2025/2025-11-23/
CATEGORIES:Aktionsmenü
ATTACH;FMTTYPE=image/jpeg:https://www.zur-scheune.de/wp-content/uploads/2025/07/Gans-ganz-anders-2025.jpg
END:VEVENT
BEGIN:VEVENT
DTSTART;TZID=Europe/Berlin:20251128T180000
DTEND;TZID=Europe/Berlin:20251128T230000
DTSTAMP:20260421T230411
CREATED:20250609T213719Z
LAST-MODIFIED:20251008T101724Z
UID:10001277-1764352800-1764370800@www.zur-scheune.de
SUMMARY:Gänseessen 2025
DESCRIPTION:Traditionell ist im Rheinland ab St.Martin Gänsezeit! Und natürlich kommen wir auch dieses Jahr wieder gerne auf unser Angebot „Gans ganz anders“ zurück. Save the date!\nIm Vorfeld bitte unbedingt reservieren! Änderungen bleiben uns jederzeit vorbehalten und das Angebot gilt solange der Vorrat reicht!\nParalell dazu könnt Ihr natürlich auch a la carte speisen!
URL:https://www.zur-scheune.de/event/gaenseessen-2025/2025-11-28/
CATEGORIES:Aktionsmenü
ATTACH;FMTTYPE=image/jpeg:https://www.zur-scheune.de/wp-content/uploads/2025/07/Gans-ganz-anders-2025.jpg
END:VEVENT
BEGIN:VEVENT
DTSTART;TZID=Europe/Berlin:20251129T180000
DTEND;TZID=Europe/Berlin:20251129T230000
DTSTAMP:20260421T230411
CREATED:20250609T213719Z
LAST-MODIFIED:20251008T101724Z
UID:10001278-1764439200-1764457200@www.zur-scheune.de
SUMMARY:Gänseessen 2025
DESCRIPTION:Traditionell ist im Rheinland ab St.Martin Gänsezeit! Und natürlich kommen wir auch dieses Jahr wieder gerne auf unser Angebot „Gans ganz anders“ zurück. Save the date!\nIm Vorfeld bitte unbedingt reservieren! Änderungen bleiben uns jederzeit vorbehalten und das Angebot gilt solange der Vorrat reicht!\nParalell dazu könnt Ihr natürlich auch a la carte speisen!
URL:https://www.zur-scheune.de/event/gaenseessen-2025/2025-11-29/
CATEGORIES:Aktionsmenü
ATTACH;FMTTYPE=image/jpeg:https://www.zur-scheune.de/wp-content/uploads/2025/07/Gans-ganz-anders-2025.jpg
END:VEVENT
BEGIN:VEVENT
DTSTART;TZID=Europe/Berlin:20251130T150000
DTEND;TZID=Europe/Berlin:20251130T230000
DTSTAMP:20260421T230411
CREATED:20251008T101859Z
LAST-MODIFIED:20251008T101859Z
UID:10001301-1764514800-1764543600@www.zur-scheune.de
SUMMARY:1.Advent-Weihnachtliche Hausmusik mit Gänse-Essen
DESCRIPTION:Am 1. Advent (30.11.) laden wir Euch um 15:30 Uhr ganz herzlich zur weihnachtlichen Hausmusik im Scheunen-Zelt ein. Bei Glühwein und gut geölter Stimme könnt Ihr gerne mitsingen oder einfach nur den weihnachtlichen Klängen lauschen. Das Konzert dauert ca. 1 Stunde und der Eintritt ist frei. Geplant sind vorwiegend Stehplätze. \nIm Anschluss findet dann in der Scheune unser Gänseessen statt. Dafür bitte unbedingt vorher reservieren da wir nur eine begrenzte Platzzahl haben. Somit könnt Ihr den 1. Advent kulinarisch entspannt ausklingen lassen.
URL:https://www.zur-scheune.de/event/1-advent-weihnachtliche-hausmusik-mit-gaense-essen/
CATEGORIES:Aktionsmenü
ATTACH;FMTTYPE=image/jpeg:https://www.zur-scheune.de/wp-content/uploads/2025/10/Weihnachtliche-Hausmusik.jpg
END:VEVENT
END:VCALENDAR