BEGIN:VCALENDAR
VERSION:2.0
PRODID:-//Gasthof zur Scheune - ECPv6.14.2//NONSGML v1.0//EN
CALSCALE:GREGORIAN
METHOD:PUBLISH
X-WR-CALNAME:Gasthof zur Scheune
X-ORIGINAL-URL:https://www.zur-scheune.de
X-WR-CALDESC:Veranstaltungen für Gasthof zur Scheune
REFRESH-INTERVAL;VALUE=DURATION:PT1H
X-Robots-Tag:noindex
X-PUBLISHED-TTL:PT1H
BEGIN:VTIMEZONE
TZID:Europe/Berlin
BEGIN:DAYLIGHT
TZOFFSETFROM:+0100
TZOFFSETTO:+0200
TZNAME:CEST
DTSTART:20230326T010000
END:DAYLIGHT
BEGIN:STANDARD
TZOFFSETFROM:+0200
TZOFFSETTO:+0100
TZNAME:CET
DTSTART:20231029T010000
END:STANDARD
END:VTIMEZONE
BEGIN:VEVENT
DTSTART;TZID=Europe/Berlin:20231029T080000
DTEND;TZID=Europe/Berlin:20231029T170000
DTSTAMP:20260422T014050
CREATED:20231012T225307Z
LAST-MODIFIED:20240206T105912Z
UID:10001053-1698566400-1698598800@www.zur-scheune.de
SUMMARY:Sonntagsbraten für die ganze Familie
DESCRIPTION:Lecker\, das schmeckt wie früher zuhause!\nAb Oktober immer wieder sonntags. Sowohl mittags wie auch abends gibt es bei uns in der Scheune unser Sonntagsbraten-Menü. \nSuppe\, Hauptgericht und Dessert lassen keine Wünsche offen. Preis € 49\,00 (ohne Getränke) \nProbiert es doch einfach mal aus\, zu Zweit\, mit der Familie oder mit Freunden. Natürlich könnt Ihr auch a la carte speisen. \nUnser aktuelles Sonntagsbraten Menü\, bitte auf das MENÜ-PDF-Bild klicken\, danke！ \n \nUnser Angebot gilt nicht bei Veranstaltungen\, und nur solange der Vorrat reicht.\nMögliche Änderungen bleiben uns vorbehalten! Um rechtzeitige Reservierung wird gebeten\, danke!
URL:https://www.zur-scheune.de/event/sonntagsbraten-fuer-die-ganze-familie/2023-10-29/1/
CATEGORIES:Aktionsmenü
ATTACH;FMTTYPE=image/jpeg:https://www.zur-scheune.de/wp-content/uploads/2023/10/Sonntagsbraten2023-1.jpg
END:VEVENT
BEGIN:VEVENT
DTSTART;TZID=Europe/Berlin:20231029T120000
DTEND;TZID=Europe/Berlin:20231029T120000
DTSTAMP:20260422T014050
CREATED:20231012T225307Z
LAST-MODIFIED:20240206T105912Z
UID:10000686-1698580800-1698580800@www.zur-scheune.de
SUMMARY:Sonntagsbraten für die ganze Familie
DESCRIPTION:Lecker\, das schmeckt wie früher zuhause!\nAb Oktober immer wieder sonntags. Sowohl mittags wie auch abends gibt es bei uns in der Scheune unser Sonntagsbraten-Menü. \nSuppe\, Hauptgericht und Dessert lassen keine Wünsche offen. Preis € 49\,00 (ohne Getränke) \nProbiert es doch einfach mal aus\, zu Zweit\, mit der Familie oder mit Freunden. Natürlich könnt Ihr auch a la carte speisen. \nUnser aktuelles Sonntagsbraten Menü\, bitte auf das MENÜ-PDF-Bild klicken\, danke！ \n \nUnser Angebot gilt nicht bei Veranstaltungen\, und nur solange der Vorrat reicht.\nMögliche Änderungen bleiben uns vorbehalten! Um rechtzeitige Reservierung wird gebeten\, danke!
URL:https://www.zur-scheune.de/event/sonntagsbraten-fuer-die-ganze-familie/2023-10-29/2/
CATEGORIES:Aktionsmenü
ATTACH;FMTTYPE=image/jpeg:https://www.zur-scheune.de/wp-content/uploads/2023/10/Sonntagsbraten2023-1.jpg
END:VEVENT
END:VCALENDAR