BEGIN:VCALENDAR
VERSION:2.0
PRODID:-//Gasthof zur Scheune - ECPv6.14.2//NONSGML v1.0//EN
CALSCALE:GREGORIAN
METHOD:PUBLISH
X-ORIGINAL-URL:https://www.zur-scheune.de
X-WR-CALDESC:Veranstaltungen für Gasthof zur Scheune
REFRESH-INTERVAL;VALUE=DURATION:PT1H
X-Robots-Tag:noindex
X-PUBLISHED-TTL:PT1H
BEGIN:VTIMEZONE
TZID:Europe/Berlin
BEGIN:DAYLIGHT
TZOFFSETFROM:+0100
TZOFFSETTO:+0200
TZNAME:CEST
DTSTART:20230326T010000
END:DAYLIGHT
BEGIN:STANDARD
TZOFFSETFROM:+0200
TZOFFSETTO:+0100
TZNAME:CET
DTSTART:20231029T010000
END:STANDARD
END:VTIMEZONE
BEGIN:VEVENT
DTSTART;TZID=Europe/Berlin:20230901T180000
DTEND;TZID=Europe/Berlin:20230915T233000
DTSTAMP:20260421T203238
CREATED:20230710T173905Z
LAST-MODIFIED:20230714T101250Z
UID:10000002-1693591200-1694820600@www.zur-scheune.de
SUMMARY:Hummer-Festival 2023
DESCRIPTION:Liebe Scheunen-Freunde\, \naufgrund Eurer großen Nachfrage haben wir auch dieses Jahr wieder unser beliebtes Hummerfestival – „Genuss in kleinen Häppchen“. \nStart ist Freitag der 01.September\,  letzter Abend (spätestens) Freitag 15.September. Sollte unser Hummerkontingent vorher schon erschöpft sein\, beenden wir das Festival möglicherweise auch einen oder zwei Tage früher (wer reserviert hat\, bekommt natürlich seinen Hummer). \nHummergenuss in allen Varianten\, einfach lecker! Natürlich kann man die einzelnen Gerichte auch a la carte bestellen. Zusätzlich gibt es auch unsere „normale“ Speisen-Karte\, für die\, die keinen Hummer mögen. Also für jeden etwas\, wir freuen uns auf Euch! \nBitte rechtzeitig reservieren\, danke!
URL:https://www.zur-scheune.de/event/hummer-festival-2023/
CATEGORIES:Aktionsmenü
ATTACH;FMTTYPE=image/jpeg:https://www.zur-scheune.de/wp-content/uploads/2023/07/slider-hummer-festival-2023-fb.jpg
END:VEVENT
BEGIN:VEVENT
DTSTART;TZID=Europe/Berlin:20230916T183000
DTEND;TZID=Europe/Berlin:20230916T233000
DTSTAMP:20260421T203238
CREATED:20230710T173256Z
LAST-MODIFIED:20230714T101159Z
UID:10000001-1694889000-1694907000@www.zur-scheune.de
SUMMARY:Kulinarische Weinprobe WG Riske / Dernau
DESCRIPTION:Wir freuen uns gemeinsam mit Euch am Samstag den 16. September um 18.30 Uhr unseren lieben Freund Volker Riske in der Scheune begrüßen zu  können. Im Gepäck hat er tolle Gewächse von der Ahr\, und vielleicht vom Mittelrhein. \nMENÜ UND WEIN FOLGT! \nPreis € 135 p.P. (alles inklusiv!) Bitte rechtzeitig anmelden\, nur begrenzte Teilnehmerzahl\, danke!
URL:https://www.zur-scheune.de/event/kulinarische-weinprobe-wg-riske-dernau/
CATEGORIES:Aktionsmenü
ATTACH;FMTTYPE=image/jpeg:https://www.zur-scheune.de/wp-content/uploads/2023/07/slider-weinprobe-2023-fb.jpg
END:VEVENT
END:VCALENDAR