BEGIN:VCALENDAR
VERSION:2.0
PRODID:-//Gasthof zur Scheune - ECPv6.14.2//NONSGML v1.0//EN
CALSCALE:GREGORIAN
METHOD:PUBLISH
X-ORIGINAL-URL:https://www.zur-scheune.de
X-WR-CALDESC:Veranstaltungen für Gasthof zur Scheune
REFRESH-INTERVAL;VALUE=DURATION:PT1H
X-Robots-Tag:noindex
X-PUBLISHED-TTL:PT1H
BEGIN:VTIMEZONE
TZID:Europe/Berlin
BEGIN:DAYLIGHT
TZOFFSETFROM:+0100
TZOFFSETTO:+0200
TZNAME:CEST
DTSTART:20260329T010000
END:DAYLIGHT
BEGIN:STANDARD
TZOFFSETFROM:+0200
TZOFFSETTO:+0100
TZNAME:CET
DTSTART:20261025T010000
END:STANDARD
END:VTIMEZONE
BEGIN:VEVENT
DTSTART;TZID=Europe/Berlin:20260307T180000
DTEND;TZID=Europe/Berlin:20260307T233000
DTSTAMP:20260421T202424
CREATED:20260208T194333Z
LAST-MODIFIED:20260208T194333Z
UID:10001441-1772906400-1772926200@www.zur-scheune.de
SUMMARY:Kulinarische Weinprobe WG Schätzle\, Kaiserstuhl
DESCRIPTION:Am 07.März freuen wir uns auf Franziska Schätzle! Sie bringt tolle Weine mit in die Scheune und mit unserem Menü dazu bieten wir Euch einen kulinarischen Abend der Extraklasse. Bitte rechtzeitig anmelden da wir nur begrenzte Plätzezahl haben. \nAlternativ kommt möglicherweise noch Freitag der 06.März dazu. Infos folgen \nMENÜ & WEIN
URL:https://www.zur-scheune.de/event/kulinarische-weinprobe-wg-schaetzle-kaiserstuhl/
CATEGORIES:Aktionsmenü
ATTACH;FMTTYPE=image/jpeg:https://www.zur-scheune.de/wp-content/uploads/2026/02/Kulinarische-Weinprobe-WG-Schaetzle-Kaiserstuhl-FB.jpg
END:VEVENT
END:VCALENDAR