BEGIN:VCALENDAR
VERSION:2.0
PRODID:-//Gasthof zur Scheune - ECPv6.14.2//NONSGML v1.0//EN
CALSCALE:GREGORIAN
METHOD:PUBLISH
X-ORIGINAL-URL:https://www.zur-scheune.de
X-WR-CALDESC:Veranstaltungen für Gasthof zur Scheune
REFRESH-INTERVAL;VALUE=DURATION:PT1H
X-Robots-Tag:noindex
X-PUBLISHED-TTL:PT1H
BEGIN:VTIMEZONE
TZID:Europe/Berlin
BEGIN:DAYLIGHT
TZOFFSETFROM:+0100
TZOFFSETTO:+0200
TZNAME:CEST
DTSTART:20250330T010000
END:DAYLIGHT
BEGIN:STANDARD
TZOFFSETFROM:+0200
TZOFFSETTO:+0100
TZNAME:CET
DTSTART:20251026T010000
END:STANDARD
END:VTIMEZONE
BEGIN:VEVENT
DTSTART;TZID=Europe/Berlin:20251017T190000
DTEND;TZID=Europe/Berlin:20251017T230000
DTSTAMP:20260422T201137
CREATED:20250319T223931Z
LAST-MODIFIED:20250319T225915Z
UID:10001248-1760727600-1760742000@www.zur-scheune.de
SUMMARY:Lukullische Oldies feat. flüssige Newcomer – Kulinarische Weinprobe
DESCRIPTION:Scheune feat Die Weinquelle \nWir freuen uns riesig\, Euch nach langer Zeit wieder ein Event gemeinsam mit der Weinquelle zu präsentieren. Robin Gerhard rief letztens bei uns an und fragte\, ob wir schon einmal Filet Wellington gemacht haben (ein Klassiker der Küchengeschichte). Unsere Antwort lautete: „Natürlich!“ \nAls ich Robin fragte\, wie er mit seinen jungen Jahren auf dieses Gericht käme\, antwortete er: „Ich hab da einfach mal Hunger drauf Guido“ – GUT! \nDaraus entwickelte sich schnell ein konstruktives Gespräch und es dauerte nur wenige Augenblicke bis wir uns einig waren. Traditionelle Küchenklassiker sind doch sehr in Vergessenheit geraten – leider zu unrecht! Folgende Idee wurde deshalb geboren: \nDie Kochkunst wird nostalgisch wiederholt\, wie der eine Lieblingsfilm\, den wir uns zehn mal anschauen können\, weil er uns mit schönen Erinnerungen in den Arm nimmt. Robin setzt dem Oldie-Ess-Erlebnis mit seinen Entdeckungen aus Deutschland und Europa und seinem Herz auf der Zunge ein Facelift auf\, und wir schwelgen gemeinsam Lukullisch durch den Abend. \nMENÜ UND WEINE (folgt in Kürze!) \nFreitag 17.10.2025 um 19.00 Uhr im Gasthof Zur Scheune\nPreis je Teilnehmer € 149 (alles inklusive!)\nBitte rechtzeitig reservieren\, begrenzte Platzzahl! \nAlternativtermin: Samstag 18.10.2025 um 18.00 Uhr \nANMELDUNG BITTE DIREKT IN DER SCHEUNE ODER PER MAIL \n ZurScheune@t-online.de
URL:https://www.zur-scheune.de/event/lukullische-oldies-feat-fluessige-newcomer-kulinarische-weinprobe/
CATEGORIES:Aktionsmenü
ATTACH;FMTTYPE=image/jpeg:https://www.zur-scheune.de/wp-content/uploads/2025/03/Lukullische-Oldies-Kulinarische-Weinprobe-2025-veranstaltung-fi.jpg
END:VEVENT
END:VCALENDAR