BEGIN:VCALENDAR
VERSION:2.0
PRODID:-//Gasthof zur Scheune - ECPv6.14.2//NONSGML v1.0//EN
CALSCALE:GREGORIAN
METHOD:PUBLISH
X-WR-CALNAME:Gasthof zur Scheune
X-ORIGINAL-URL:https://www.zur-scheune.de
X-WR-CALDESC:Veranstaltungen für Gasthof zur Scheune
REFRESH-INTERVAL;VALUE=DURATION:PT1H
X-Robots-Tag:noindex
X-PUBLISHED-TTL:PT1H
BEGIN:VTIMEZONE
TZID:Europe/Berlin
BEGIN:DAYLIGHT
TZOFFSETFROM:+0100
TZOFFSETTO:+0200
TZNAME:CEST
DTSTART:20230326T010000
END:DAYLIGHT
BEGIN:STANDARD
TZOFFSETFROM:+0200
TZOFFSETTO:+0100
TZNAME:CET
DTSTART:20231029T010000
END:STANDARD
END:VTIMEZONE
BEGIN:VEVENT
DTSTART;TZID=Europe/Berlin:20230827T110000
DTEND;TZID=Europe/Berlin:20230827T160000
DTSTAMP:20260423T115209
CREATED:20230710T174224Z
LAST-MODIFIED:20230710T174224Z
UID:10000003-1693134000-1693152000@www.zur-scheune.de
SUMMARY:Erster Scheunen-Flohmarkt
DESCRIPTION:Wir räumen auf! Nach 26 Jahren hat sich doch Einiges an Utensilien\, Porzellan\, Gläsern und anderen Schätzchen in der Scheune angesammelt. Aber wie im richtigen Leben\, irgendwann ist kein Platz mehr da! Das möchten wir wieder ändern.\n\nBei Gegrilltem\, Kaltgetränken\, Kaffee und Kuchen möchten wir Euch einladen mit uns zu Stöbern. Gegen einen kleinen Obulus könnt Ihr dann Eure Lieblingsgegenstände erwerben.\nDer Erlös geht nach Abzug der Kosten zu unseren Freunden an die Ahr!\nUHRZEIT: 11.00 Uhr bis 16.00 Uhr im Scheunenhof\nEINTRITT FREI! SPEISEN UND GETRÄNKE SIND NICHT FREI.
URL:https://www.zur-scheune.de/event/erster-scheunen-flohmarkt/
ATTACH;FMTTYPE=image/jpeg:https://www.zur-scheune.de/wp-content/uploads/2023/07/slider-flohmarkt-2023-fb.jpg
END:VEVENT
END:VCALENDAR